Package: epidecodeR Version: 1.14.0 Command: /home/biocbuild/bbs-3.20-bioc/R/bin/R CMD check --install=check:epidecodeR.install-out.txt --library=/home/biocbuild/bbs-3.20-bioc/R/site-library --timings epidecodeR_1.14.0.tar.gz StartedAt: 2025-02-03 22:07:30 -0500 (Mon, 03 Feb 2025) EndedAt: 2025-02-03 22:11:33 -0500 (Mon, 03 Feb 2025) EllapsedTime: 242.2 seconds RetCode: 0 Status: OK CheckDir: epidecodeR.Rcheck Warnings: 0