Package: epidecodeR Version: 1.14.0 Command: chmod a+r epidecodeR -R && F:\biocbuild\bbs-3.20-bioc\R\bin\R.exe CMD build --keep-empty-dirs --no-resave-data epidecodeR StartedAt: 2025-02-03 18:52:52 -0500 (Mon, 03 Feb 2025) EndedAt: 2025-02-03 18:55:33 -0500 (Mon, 03 Feb 2025) EllapsedTime: 160.5 seconds RetCode: 0 Status: OK PackageFile: epidecodeR_1.14.0.tar.gz PackageFileSize: 1.707 MiB