Package: epigenomix Version: 1.46.0 Command: /Library/Frameworks/R.framework/Resources/bin/R CMD check --install=check:epigenomix.install-out.txt --library=/Library/Frameworks/R.framework/Resources/library --no-vignettes --timings epigenomix_1.46.0.tar.gz StartedAt: 2025-02-04 19:07:19 -0500 (Tue, 04 Feb 2025) EndedAt: 2025-02-04 19:12:48 -0500 (Tue, 04 Feb 2025) EllapsedTime: 329.4 seconds RetCode: 0 Status: OK CheckDir: epigenomix.Rcheck Warnings: 0