Package: epigenomix Version: 1.46.0 Command: F:\biocbuild\bbs-3.20-bioc\R\bin\R.exe CMD check --no-multiarch --install=check:epigenomix.install-out.txt --library=F:\biocbuild\bbs-3.20-bioc\R\library --no-vignettes --timings epigenomix_1.46.0.tar.gz StartedAt: 2025-02-04 01:35:27 -0500 (Tue, 04 Feb 2025) EndedAt: 2025-02-04 01:40:59 -0500 (Tue, 04 Feb 2025) EllapsedTime: 332.6 seconds RetCode: 0 Status: OK CheckDir: epigenomix.Rcheck Warnings: 0