Package: epigraHMM Version: 1.14.0 Command: /Library/Frameworks/R.framework/Resources/bin/R CMD INSTALL epigraHMM StartedAt: 2025-02-17 18:18:18 -0500 (Mon, 17 Feb 2025) EndedAt: 2025-02-17 18:20:17 -0500 (Mon, 17 Feb 2025) EllapsedTime: 119.0 seconds RetCode: 0 Status: OK