Package: epigraHMM Version: 1.14.0 Command: /Library/Frameworks/R.framework/Resources/bin/R CMD build --keep-empty-dirs --no-resave-data epigraHMM StartedAt: 2025-02-03 18:46:08 -0500 (Mon, 03 Feb 2025) EndedAt: 2025-02-03 19:02:39 -0500 (Mon, 03 Feb 2025) EllapsedTime: 991.1 seconds RetCode: 0 Status: OK PackageFile: epigraHMM_1.14.0.tar.gz PackageFileSize: 734.6 KiB