Package: epigraHMM Version: 1.14.0 Command: /Library/Frameworks/R.framework/Resources/bin/R CMD INSTALL epigraHMM StartedAt: 2025-02-03 16:46:57 -0500 (Mon, 03 Feb 2025) EndedAt: 2025-02-03 16:51:15 -0500 (Mon, 03 Feb 2025) EllapsedTime: 257.7 seconds RetCode: 0 Status: OK