Package: epigraHMM Version: 1.14.0 Command: /home/biocbuild/bbs-3.20-bioc/R/bin/R CMD build --keep-empty-dirs --no-resave-data --md5 epigraHMM StartedAt: 2025-02-03 17:20:01 -0500 (Mon, 03 Feb 2025) EndedAt: 2025-02-03 17:28:23 -0500 (Mon, 03 Feb 2025) EllapsedTime: 501.9 seconds RetCode: 0 Status: OK PackageFile: epigraHMM_1.14.0.tar.gz PackageFileSize: 729.2 KiB