Package: epigraHMM Version: 1.14.0 Command: /home/biocbuild/bbs-3.20-bioc/R/bin/R CMD check --install=check:epigraHMM.install-out.txt --library=/home/biocbuild/bbs-3.20-bioc/R/site-library --timings epigraHMM_1.14.0.tar.gz StartedAt: 2025-02-03 22:08:41 -0500 (Mon, 03 Feb 2025) EndedAt: 2025-02-03 22:22:43 -0500 (Mon, 03 Feb 2025) EllapsedTime: 842.0 seconds RetCode: 0 Status: WARNINGS CheckDir: epigraHMM.Rcheck Warnings: 1