Package: epigraHMM Version: 1.14.0 Command: chmod a+r epigraHMM -R && F:\biocbuild\bbs-3.20-bioc\R\bin\R.exe CMD build --keep-empty-dirs --no-resave-data epigraHMM StartedAt: 2025-02-03 18:53:31 -0500 (Mon, 03 Feb 2025) EndedAt: 2025-02-03 19:24:23 -0500 (Mon, 03 Feb 2025) EllapsedTime: 1851.4 seconds RetCode: 0 Status: OK PackageFile: epigraHMM_1.14.0.tar.gz PackageFileSize: 493 KiB