Package: epiregulon.extra Version: 1.2.0 Command: /Library/Frameworks/R.framework/Resources/bin/R CMD INSTALL epiregulon.extra StartedAt: 2025-02-03 17:45:51 -0500 (Mon, 03 Feb 2025) EndedAt: 2025-02-03 17:46:22 -0500 (Mon, 03 Feb 2025) EllapsedTime: 31.0 seconds RetCode: 0 Status: OK