Package: epiregulon.extra Version: 1.2.0 Command: /home/biocbuild/bbs-3.20-bioc/R/bin/R CMD build --keep-empty-dirs --no-resave-data --md5 epiregulon.extra StartedAt: 2025-02-03 17:20:42 -0500 (Mon, 03 Feb 2025) EndedAt: 2025-02-03 17:23:03 -0500 (Mon, 03 Feb 2025) EllapsedTime: 141.1 seconds RetCode: 0 Status: OK PackageFile: epiregulon.extra_1.2.0.tar.gz PackageFileSize: 3.509 MiB