Package: epiregulon.extra
Version: 1.2.0
Command: /home/biocbuild/bbs-3.20-bioc/R/bin/R CMD check --install=check:epiregulon.extra.install-out.txt --library=/home/biocbuild/bbs-3.20-bioc/R/site-library --timings epiregulon.extra_1.2.0.tar.gz
StartedAt: 2024-11-20 02:34:03 -0500 (Wed, 20 Nov 2024)
EndedAt: 2024-11-20 02:41:10 -0500 (Wed, 20 Nov 2024)
EllapsedTime: 427.1 seconds
RetCode: 0
Status: OK
CheckDir: epiregulon.extra.Rcheck
Warnings: 0