Package: epiregulon Version: 1.2.0 Command: /Library/Frameworks/R.framework/Resources/bin/R CMD build --keep-empty-dirs --no-resave-data epiregulon StartedAt: 2025-02-03 23:15:50 -0500 (Mon, 03 Feb 2025) EndedAt: 2025-02-03 23:20:15 -0500 (Mon, 03 Feb 2025) EllapsedTime: 265.2 seconds RetCode: 0 Status: OK PackageFile: epiregulon_1.2.0.tar.gz PackageFileSize: 1.277 MiB