Package: epiregulon Version: 1.2.0 Command: /home/biocbuild/bbs-3.20-bioc/R/bin/R CMD check --install=check:epiregulon.install-out.txt --library=/home/biocbuild/bbs-3.20-bioc/R/site-library --timings epiregulon_1.2.0.tar.gz StartedAt: 2025-02-03 22:09:05 -0500 (Mon, 03 Feb 2025) EndedAt: 2025-02-03 22:20:19 -0500 (Mon, 03 Feb 2025) EllapsedTime: 673.7 seconds RetCode: 0 Status: OK CheckDir: epiregulon.Rcheck Warnings: 0