Package: epistack Version: 1.12.0 Command: /Library/Frameworks/R.framework/Resources/bin/R CMD build --keep-empty-dirs --no-resave-data epistack StartedAt: 2025-02-03 23:20:15 -0500 (Mon, 03 Feb 2025) EndedAt: 2025-02-03 23:21:59 -0500 (Mon, 03 Feb 2025) EllapsedTime: 104.1 seconds RetCode: 0 Status: OK PackageFile: epistack_1.12.0.tar.gz PackageFileSize: 3.946 MiB