Package: epistack
Version: 1.12.0
Command: /home/biocbuild/R/R/bin/R CMD build --keep-empty-dirs --no-resave-data epistack
StartedAt: 2024-11-20 00:33:50 -0000 (Wed, 20 Nov 2024)
EndedAt: 2024-11-20 00:36:58 -0000 (Wed, 20 Nov 2024)
EllapsedTime: 188.2 seconds
RetCode: 0
Status: OK
PackageFile: epistack_1.12.0.tar.gz
PackageFileSize: 3.144 <A href="http://en.wikipedia.org/wiki/MiB" target="_blank">MiB</A>