Package: epistack
Version: 1.12.0
Command: /Library/Frameworks/R.framework/Resources/bin/R CMD build --keep-empty-dirs --no-resave-data epistack
StartedAt: 2024-11-19 16:45:20 -0500 (Tue, 19 Nov 2024)
EndedAt: 2024-11-19 16:47:03 -0500 (Tue, 19 Nov 2024)
EllapsedTime: 103.5 seconds
RetCode: 0
Status: OK
PackageFile: epistack_1.12.0.tar.gz
PackageFileSize: 3.946 <A href="http://en.wikipedia.org/wiki/MiB" target="_blank">MiB</A>