Package: epistack
Version: 1.12.0
Command: /Library/Frameworks/R.framework/Resources/bin/R CMD check --install=check:epistack.install-out.txt --library=/Library/Frameworks/R.framework/Resources/library --no-vignettes --timings epistack_1.12.0.tar.gz
StartedAt: 2024-11-19 21:50:42 -0500 (Tue, 19 Nov 2024)
EndedAt: 2024-11-19 21:57:35 -0500 (Tue, 19 Nov 2024)
EllapsedTime: 412.9 seconds
RetCode: 0
Status: OK
CheckDir: epistack.Rcheck
Warnings: 0