Package: epistasisGA Version: 1.8.0 Command: /Library/Frameworks/R.framework/Resources/bin/R CMD build --keep-empty-dirs --no-resave-data epistasisGA StartedAt: 2025-02-03 23:20:40 -0500 (Mon, 03 Feb 2025) EndedAt: 2025-02-03 23:24:18 -0500 (Mon, 03 Feb 2025) EllapsedTime: 218.2 seconds RetCode: 0 Status: OK PackageFile: epistasisGA_1.8.0.tar.gz PackageFileSize: 2.061 MiB