Package: epistasisGA Version: 1.8.0 Command: rm -rf epistasisGA.buildbin-libdir && mkdir epistasisGA.buildbin-libdir && F:\biocbuild\bbs-3.20-bioc\R\bin\R.exe CMD INSTALL --build --library=epistasisGA.buildbin-libdir epistasisGA_1.8.0.tar.gz StartedAt: 2025-02-04 08:27:25 -0500 (Tue, 04 Feb 2025) EndedAt: 2025-02-04 08:28:40 -0500 (Tue, 04 Feb 2025) EllapsedTime: 74.7 seconds RetCode: 0 Status: OK PackageFile: epistasisGA_1.8.0.zip PackageFileSize: 1.958 MiB