Package: epistasisGA Version: 1.8.0 Command: chmod a+r epistasisGA -R && F:\biocbuild\bbs-3.20-bioc\R\bin\R.exe CMD build --keep-empty-dirs --no-resave-data epistasisGA StartedAt: 2025-02-03 18:55:34 -0500 (Mon, 03 Feb 2025) EndedAt: 2025-02-03 19:02:03 -0500 (Mon, 03 Feb 2025) EllapsedTime: 388.6 seconds RetCode: 0 Status: OK PackageFile: epistasisGA_1.8.0.tar.gz PackageFileSize: 1.346 MiB