Package: epivizrChart Version: 1.28.0 Command: rm -rf epivizrChart.buildbin-libdir && mkdir epivizrChart.buildbin-libdir && /Users/biocbuild/BBS/utils/build-universal.sh epivizrChart_1.28.0.tar.gz /Library/Frameworks/R.framework/Resources/bin/R epivizrChart.buildbin-libdir StartedAt: 2025-02-05 15:46:33 -0500 (Wed, 05 Feb 2025) EndedAt: 2025-02-05 15:47:35 -0500 (Wed, 05 Feb 2025) EllapsedTime: 62.3 seconds RetCode: 0 Status: OK PackageFile: epivizrChart_1.28.0.tgz PackageFileSize: 6.431 MiB