Package: epivizrChart Version: 1.28.0 Command: /Library/Frameworks/R.framework/Resources/bin/R CMD build --keep-empty-dirs --no-resave-data epivizrChart StartedAt: 2025-02-03 18:48:49 -0500 (Mon, 03 Feb 2025) EndedAt: 2025-02-03 18:52:48 -0500 (Mon, 03 Feb 2025) EllapsedTime: 238.6 seconds RetCode: 0 Status: OK PackageFile: epivizrChart_1.28.0.tar.gz PackageFileSize: 5.303 MiB