Package: epivizrChart Version: 1.28.0 Command: /Library/Frameworks/R.framework/Resources/bin/R CMD check --install=check:epivizrChart.install-out.txt --library=/Library/Frameworks/R.framework/Resources/library --no-vignettes --timings epivizrChart_1.28.0.tar.gz StartedAt: 2025-02-04 03:23:48 -0500 (Tue, 04 Feb 2025) EndedAt: 2025-02-04 03:35:51 -0500 (Tue, 04 Feb 2025) EllapsedTime: 723.1 seconds RetCode: 0 Status: OK CheckDir: epivizrChart.Rcheck Warnings: 0