Package: epivizrChart Version: 1.28.0 Command: /Library/Frameworks/R.framework/Resources/bin/R CMD INSTALL epivizrChart StartedAt: 2025-02-03 16:00:01 -0500 (Mon, 03 Feb 2025) EndedAt: 2025-02-03 16:01:40 -0500 (Mon, 03 Feb 2025) EllapsedTime: 99.3 seconds RetCode: 0 Status: OK