Package: epivizrChart Version: 1.28.0 Command: F:\biocbuild\bbs-3.20-bioc\R\bin\R.exe CMD INSTALL epivizrChart StartedAt: 2025-02-03 16:42:34 -0500 (Mon, 03 Feb 2025) EndedAt: 2025-02-03 16:44:06 -0500 (Mon, 03 Feb 2025) EllapsedTime: 91.4 seconds RetCode: 0 Status: OK