Package: epivizrChart Version: 1.28.0 Command: /home/biocbuild/R/R/bin/R CMD build --keep-empty-dirs --no-resave-data epivizrChart StartedAt: 2025-02-03 23:29:09 -0000 (Mon, 03 Feb 2025) EndedAt: 2025-02-03 23:31:29 -0000 (Mon, 03 Feb 2025) EllapsedTime: 140.0 seconds RetCode: 0 Status: OK PackageFile: epivizrChart_1.28.0.tar.gz PackageFileSize: 5.417 MiB