Package: epivizrChart Version: 1.28.0 Command: /home/biocbuild/R/R/bin/R CMD INSTALL epivizrChart StartedAt: 2025-02-03 20:53:04 -0000 (Mon, 03 Feb 2025) EndedAt: 2025-02-03 20:54:02 -0000 (Mon, 03 Feb 2025) EllapsedTime: 57.2 seconds RetCode: 0 Status: OK