Package: epivizrData Version: 1.34.0 Command: /Library/Frameworks/R.framework/Resources/bin/R CMD build --keep-empty-dirs --no-resave-data epivizrData StartedAt: 2025-02-03 23:21:59 -0500 (Mon, 03 Feb 2025) EndedAt: 2025-02-03 23:23:12 -0500 (Mon, 03 Feb 2025) EllapsedTime: 72.4 seconds RetCode: 0 Status: OK PackageFile: epivizrData_1.34.0.tar.gz PackageFileSize: 243.3 KiB