Package: epivizrData
Version: 1.34.0
Command: rm -rf epivizrData.buildbin-libdir && mkdir epivizrData.buildbin-libdir && F:\biocbuild\bbs-3.20-bioc\R\bin\R.exe CMD INSTALL --build --library=epivizrData.buildbin-libdir epivizrData_1.34.0.tar.gz
StartedAt: 2025-02-18 08:04:51 -0500 (Tue, 18 Feb 2025)
EndedAt: 2025-02-18 08:06:39 -0500 (Tue, 18 Feb 2025)
EllapsedTime: 108.1 seconds
RetCode: 0
Status: OK
PackageFile: epivizrData_1.34.0.zip
PackageFileSize: 882.8 <A href="http://en.wikipedia.org/wiki/KiB" target="_blank">KiB</A>