Package: epivizrData Version: 1.34.0 Command: /home/biocbuild/R/R/bin/R CMD build --keep-empty-dirs --no-resave-data epivizrData StartedAt: 2025-02-03 23:29:29 -0000 (Mon, 03 Feb 2025) EndedAt: 2025-02-03 23:30:40 -0000 (Mon, 03 Feb 2025) EllapsedTime: 71.0 seconds RetCode: 0 Status: OK PackageFile: epivizrData_1.34.0.tar.gz PackageFileSize: 269.9 KiB