Package: epivizrServer Version: 1.34.0 Command: rm -rf epivizrServer.buildbin-libdir && mkdir epivizrServer.buildbin-libdir && /Users/biocbuild/BBS/utils/build-universal.sh epivizrServer_1.34.0.tar.gz /Library/Frameworks/R.framework/Resources/bin/R epivizrServer.buildbin-libdir StartedAt: 2025-02-01 14:51:34 -0500 (Sat, 01 Feb 2025) EndedAt: 2025-02-01 14:51:40 -0500 (Sat, 01 Feb 2025) EllapsedTime: 5.7 seconds RetCode: 0 Status: OK PackageFile: epivizrServer_1.34.0.tgz PackageFileSize: 454.2 KiB