Package: epivizrServer Version: 1.34.0 Command: /Library/Frameworks/R.framework/Resources/bin/R CMD check --install=check:epivizrServer.install-out.txt --library=/Library/Frameworks/R.framework/Resources/library --no-vignettes --timings epivizrServer_1.34.0.tar.gz StartedAt: 2025-01-31 03:39:24 -0500 (Fri, 31 Jan 2025) EndedAt: 2025-01-31 03:40:16 -0500 (Fri, 31 Jan 2025) EllapsedTime: 52.2 seconds RetCode: 0 Status: OK CheckDir: epivizrServer.Rcheck Warnings: 0