Package: epivizrServer Version: 1.34.0 Command: /home/biocbuild/bbs-3.20-bioc/R/bin/R CMD INSTALL epivizrServer StartedAt: 2025-01-30 15:08:08 -0500 (Thu, 30 Jan 2025) EndedAt: 2025-01-30 15:08:17 -0500 (Thu, 30 Jan 2025) EllapsedTime: 8.8 seconds RetCode: 0 Status: OK