Package: epivizrServer Version: 1.34.0 Command: rm -rf epivizrServer.buildbin-libdir && mkdir epivizrServer.buildbin-libdir && F:\biocbuild\bbs-3.20-bioc\R\bin\R.exe CMD INSTALL --build --library=epivizrServer.buildbin-libdir epivizrServer_1.34.0.tar.gz StartedAt: 2025-02-04 08:27:42 -0500 (Tue, 04 Feb 2025) EndedAt: 2025-02-04 08:28:14 -0500 (Tue, 04 Feb 2025) EllapsedTime: 31.6 seconds RetCode: 0 Status: OK PackageFile: epivizrServer_1.34.0.zip PackageFileSize: 459.6 KiB