Package: epivizrServer Version: 1.34.0 Command: /home/biocbuild/R/R/bin/R CMD build --keep-empty-dirs --no-resave-data epivizrServer StartedAt: 2025-02-03 23:29:42 -0000 (Mon, 03 Feb 2025) EndedAt: 2025-02-03 23:29:50 -0000 (Mon, 03 Feb 2025) EllapsedTime: 8.0 seconds RetCode: 0 Status: OK PackageFile: epivizrServer_1.34.0.tar.gz PackageFileSize: 255.9 KiB