Package: epivizrServer Version: 1.34.0 Command: /home/biocbuild/R/R/bin/R CMD INSTALL epivizrServer StartedAt: 2025-02-03 20:26:11 -0000 (Mon, 03 Feb 2025) EndedAt: 2025-02-03 20:26:32 -0000 (Mon, 03 Feb 2025) EllapsedTime: 20.8 seconds RetCode: 0 Status: OK