Package: epivizrStandalone Version: 1.34.0 Command: /Library/Frameworks/R.framework/Resources/bin/R CMD build --keep-empty-dirs --no-resave-data epivizrStandalone StartedAt: 2025-02-17 18:54:11 -0500 (Mon, 17 Feb 2025) EndedAt: 2025-02-17 18:55:41 -0500 (Mon, 17 Feb 2025) EllapsedTime: 89.8 seconds RetCode: 0 Status: OK PackageFile: epivizrStandalone_1.34.0.tar.gz PackageFileSize: 220 <A href="http://en.wikipedia.org/wiki/KiB" target="_blank">KiB</A>