##############################################################################
##############################################################################
###
### Running command:
###
###   rm -rf epivizrStandalone.buildbin-libdir && mkdir epivizrStandalone.buildbin-libdir && C:\Users\biocbuild\bbs-3.20-bioc\R\bin\R.exe CMD INSTALL --build --library=epivizrStandalone.buildbin-libdir epivizrStandalone_1.33.0.tar.gz
###
##############################################################################
##############################################################################


* installing *source* package 'epivizrStandalone' ...
** using staged installation
** R
** inst
** byte-compile and prepare package for lazy loading
** help
*** installing help indices
** building package indices
** installing vignettes
** testing if installed package can be loaded from temporary location
** testing if installed package can be loaded from final location
** testing if installed package keeps a record of temporary installation path
* MD5 sums
packaged installation of 'epivizrStandalone' as epivizrStandalone_1.33.0.zip
* DONE (epivizrStandalone)