Package: epivizrStandalone Version: 1.34.0 Command: chmod a+r epivizrStandalone -R && F:\biocbuild\bbs-3.20-bioc\R\bin\R.exe CMD build --keep-empty-dirs --no-resave-data epivizrStandalone StartedAt: 2025-02-03 18:59:32 -0500 (Mon, 03 Feb 2025) EndedAt: 2025-02-03 19:00:20 -0500 (Mon, 03 Feb 2025) EllapsedTime: 47.4 seconds RetCode: 0 Status: OK PackageFile: epivizrStandalone_1.34.0.tar.gz PackageFileSize: 220.1 KiB