Package: erccdashboard
Version: 1.40.0
Command: /Library/Frameworks/R.framework/Resources/bin/R CMD check --install=check:erccdashboard.install-out.txt --library=/Library/Frameworks/R.framework/Resources/library --no-vignettes --timings erccdashboard_1.40.0.tar.gz
StartedAt: 2024-11-09 01:55:24 -0500 (Sat, 09 Nov 2024)
EndedAt: 2024-11-09 01:59:28 -0500 (Sat, 09 Nov 2024)
EllapsedTime: 243.4 seconds
RetCode: 0
Status: OK
CheckDir: erccdashboard.Rcheck
Warnings: 0