Package: erccdashboard Version: 1.40.0 Command: /Library/Frameworks/R.framework/Resources/bin/R CMD build --keep-empty-dirs --no-resave-data erccdashboard StartedAt: 2025-02-03 18:50:07 -0500 (Mon, 03 Feb 2025) EndedAt: 2025-02-03 18:51:49 -0500 (Mon, 03 Feb 2025) EllapsedTime: 102.2 seconds RetCode: 0 Status: OK PackageFile: erccdashboard_1.40.0.tar.gz PackageFileSize: 2.122 MiB