Package: erccdashboard Version: 1.40.0 Command: /Library/Frameworks/R.framework/Resources/bin/R CMD check --install=check:erccdashboard.install-out.txt --library=/Library/Frameworks/R.framework/Resources/library --no-vignettes --timings erccdashboard_1.40.0.tar.gz StartedAt: 2025-02-04 03:27:04 -0500 (Tue, 04 Feb 2025) EndedAt: 2025-02-04 03:29:24 -0500 (Tue, 04 Feb 2025) EllapsedTime: 140.8 seconds RetCode: 0 Status: OK CheckDir: erccdashboard.Rcheck Warnings: 0