Package: erccdashboard Version: 1.40.0 Command: F:\biocbuild\bbs-3.20-bioc\R\bin\R.exe CMD INSTALL erccdashboard StartedAt: 2025-02-03 15:46:30 -0500 (Mon, 03 Feb 2025) EndedAt: 2025-02-03 15:47:09 -0500 (Mon, 03 Feb 2025) EllapsedTime: 39.5 seconds RetCode: 0 Status: OK