Package: erccdashboard Version: 1.40.0 Command: /home/biocbuild/R/R/bin/R CMD check --install=check:erccdashboard.install-out.txt --library=/home/biocbuild/R/R/site-library --no-vignettes --timings erccdashboard_1.40.0.tar.gz StartedAt: 2025-02-04 06:50:59 -0000 (Tue, 04 Feb 2025) EndedAt: 2025-02-04 06:52:16 -0000 (Tue, 04 Feb 2025) EllapsedTime: 77.2 seconds RetCode: 0 Status: OK CheckDir: erccdashboard.Rcheck Warnings: 0