Package: esATAC
Version: 1.27.0
Command: /home/biocbuild/R/R/bin/R CMD check --no-vignettes --timings esATAC_1.27.0.tar.gz
StartedAt: 2024-07-06 04:49:47 -0000 (Sat, 06 Jul 2024)
EndedAt: 2024-07-06 05:02:25 -0000 (Sat, 06 Jul 2024)
EllapsedTime: 758.5 seconds
RetCode: 0
Status: OK
CheckDir: esATAC.Rcheck
Warnings: 0