Package: esATAC Version: 1.28.0 Command: rm -rf esATAC.buildbin-libdir && mkdir esATAC.buildbin-libdir && /Users/biocbuild/BBS/utils/build-universal.sh esATAC_1.28.0.tar.gz /Library/Frameworks/R.framework/Resources/bin/R esATAC.buildbin-libdir StartedAt: 2025-02-04 12:55:01 -0500 (Tue, 04 Feb 2025) EndedAt: 2025-02-04 12:58:29 -0500 (Tue, 04 Feb 2025) EllapsedTime: 208.4 seconds RetCode: 0 Status: OK PackageFile: esATAC_1.28.0.tgz PackageFileSize: 8.171 MiB