Package: esATAC Version: 1.28.0 Command: /home/biocbuild/bbs-3.20-bioc/R/bin/R CMD INSTALL esATAC StartedAt: 2025-02-03 15:52:39 -0500 (Mon, 03 Feb 2025) EndedAt: 2025-02-03 15:54:15 -0500 (Mon, 03 Feb 2025) EllapsedTime: 96.5 seconds RetCode: 0 Status: OK