Package: esATAC
Version: 1.27.0
Command: chmod a+r esATAC -R && C:\Users\biocbuild\bbs-3.20-bioc\R\bin\R.exe CMD build --keep-empty-dirs --no-resave-data esATAC
StartedAt: 2024-07-15 17:53:08 -0400 (Mon, 15 Jul 2024)
EndedAt: 2024-07-15 17:53:12 -0400 (Mon, 15 Jul 2024)
EllapsedTime: 4.0 seconds
RetCode: 1
Status: ERROR
PackageFile: None
PackageFileSize: NA